BEGIN:VCALENDAR
VERSION:2.0
PRODID:-//Haveforeningen Hestholm - ECPv6.15.20//NONSGML v1.0//EN
CALSCALE:GREGORIAN
METHOD:PUBLISH
X-WR-CALNAME:Haveforeningen Hestholm
X-ORIGINAL-URL:https://hestholm.dk
X-WR-CALDESC:Begivenheder for Haveforeningen Hestholm
REFRESH-INTERVAL;VALUE=DURATION:PT1H
X-Robots-Tag:noindex
X-PUBLISHED-TTL:PT1H
BEGIN:VTIMEZONE
TZID:Europe/Copenhagen
BEGIN:DAYLIGHT
TZOFFSETFROM:+0100
TZOFFSETTO:+0200
TZNAME:CEST
DTSTART:20250330T010000
END:DAYLIGHT
BEGIN:STANDARD
TZOFFSETFROM:+0200
TZOFFSETTO:+0100
TZNAME:CET
DTSTART:20251026T010000
END:STANDARD
BEGIN:DAYLIGHT
TZOFFSETFROM:+0100
TZOFFSETTO:+0200
TZNAME:CEST
DTSTART:20260329T010000
END:DAYLIGHT
BEGIN:STANDARD
TZOFFSETFROM:+0200
TZOFFSETTO:+0100
TZNAME:CET
DTSTART:20261025T010000
END:STANDARD
BEGIN:DAYLIGHT
TZOFFSETFROM:+0100
TZOFFSETTO:+0200
TZNAME:CEST
DTSTART:20270328T010000
END:DAYLIGHT
BEGIN:STANDARD
TZOFFSETFROM:+0200
TZOFFSETTO:+0100
TZNAME:CET
DTSTART:20271031T010000
END:STANDARD
END:VTIMEZONE
BEGIN:VEVENT
DTSTART;TZID=Europe/Copenhagen:20260822T100000
DTEND;TZID=Europe/Copenhagen:20260822T170000
DTSTAMP:20260423T140106
CREATED:20260423T071517Z
LAST-MODIFIED:20260423T074338Z
UID:1847-1787392800-1787418000@hestholm.dk
SUMMARY:Jubilæumsfest
DESCRIPTION:Hestholm har fødselsdag! Det skal fejres. \nKom til årets fest \n\n\n\n\n\n 
URL:https://hestholm.dk/event/jubilaeumsfest/
LOCATION:Plænen ved Lillelund
ATTACH;FMTTYPE=image/jpeg:https://hestholm.dk/wp-content/uploads/2024/03/Shortstace-Warmith.jpg
END:VEVENT
END:VCALENDAR